BEGIN:VCALENDAR
VERSION:2.0
PRODID:-//wp-events-plugin.com//7.2.3.1//EN
TZID:Europe/Berlin
X-WR-TIMEZONE:Europe/Berlin
BEGIN:VEVENT
UID:0-312@seniorenbeirat-recklinghausen.com
DTSTART;TZID=Europe/Berlin:20260429T100000
DTEND;TZID=Europe/Berlin:20260429T130000
DTSTAMP:20260422T082119Z
URL:https://seniorenbeirat-recklinghausen.com/events/seniorenbuero-4-2026-
 04-22-2026-04-29/
SUMMARY:Seniorenbüro
DESCRIPTION:Das Seniorenbüro Büro ist im K 17 Info Center der Diakonie am
  Kaiserwall zu finden und bietet eine Vielzahl von Angeboten und Unterstü
 tzungen für ältere Menschen. \nDie Sprechstunde des Seniorenbeirats find
 et jeden Mittwoch von 10:00 bis 13:00 Uhr statt. \nIm Seniorenbüro werden
  Ihre Fragen\, Anregungen und Anliegen entgegengenommen und über die viel
 fältigen Angebote des Seniorenbeirats informiert.\nDer Seniorenbeirat ist
  bestrebt\, älteren Menschen in unserer Gemeinde eine umfassende Unterst
 ützung und Beratung anzubieten. \nWir laden Sie herzlich ein\, vorbeizuko
 mmen und von den Informationen und Angeboten des Seniorenbüros zu profiti
 eren.\nText: N.Jandt\nFoto: Privat
ATTACH;FMTTYPE=image/jpeg:https://i0.wp.com/seniorenbeirat-recklinghausen.
 com/files/2023/03/20230308_105124-1.jpg?fit=1200%2C1200&ssl=1
CATEGORIES:Sprechstunden
LOCATION:K17 Diakonie Infocenter\, Kaiserwall 17\, Recklinghausen\, NRW\, 4
 5657\, Deutschland
GEO:51.612144;7.199303
X-APPLE-STRUCTURED-LOCATION;VALUE=URI;X-ADDRESS=Kaiserwall 17\, Recklinghau
 sen\, NRW\, 45657\, Deutschland;X-APPLE-RADIUS=100;X-TITLE=K17 Diakonie In
 focenter:geo:51.612144,7.199303
END:VEVENT
BEGIN:VTIMEZONE
TZID:Europe/Berlin
X-LIC-LOCATION:Europe/Berlin
BEGIN:DAYLIGHT
DTSTART:20260329T030000
TZOFFSETFROM:+0100
TZOFFSETTO:+0200
TZNAME:CEST
END:DAYLIGHT
END:VTIMEZONE
END:VCALENDARBEGIN:VCALENDAR
VERSION:2.0
PRODID:-//wp-events-plugin.com//7.2.3.1//EN
TZID:Europe/Berlin
X-WR-TIMEZONE:Europe/Berlin
BEGIN:VEVENT
UID:0-312@seniorenbeirat-recklinghausen.com
DTSTART;TZID=Europe/Berlin:20260429T100000
DTEND;TZID=Europe/Berlin:20260429T130000
DTSTAMP:20260422T082119Z
URL:https://seniorenbeirat-recklinghausen.com/events/seniorenbuero-4-2026-
 04-22-2026-04-29/
SUMMARY:Seniorenbüro
DESCRIPTION:Das Seniorenbüro Büro ist im K 17 Info Center der Diakonie am
  Kaiserwall zu finden und bietet eine Vielzahl von Angeboten und Unterstü
 tzungen für ältere Menschen. \nDie Sprechstunde des Seniorenbeirats find
 et jeden Mittwoch von 10:00 bis 13:00 Uhr statt. \nIm Seniorenbüro werden
  Ihre Fragen\, Anregungen und Anliegen entgegengenommen und über die viel
 fältigen Angebote des Seniorenbeirats informiert.\nDer Seniorenbeirat ist
  bestrebt\, älteren Menschen in unserer Gemeinde eine umfassende Unterst
 ützung und Beratung anzubieten. \nWir laden Sie herzlich ein\, vorbeizuko
 mmen und von den Informationen und Angeboten des Seniorenbüros zu profiti
 eren.\nText: N.Jandt\nFoto: Privat
ATTACH;FMTTYPE=image/jpeg:https://i0.wp.com/seniorenbeirat-recklinghausen.
 com/files/2023/03/20230308_105124-1.jpg?fit=1200%2C1200&ssl=1
CATEGORIES:Sprechstunden
LOCATION:K17 Diakonie Infocenter\, Kaiserwall 17\, Recklinghausen\, NRW\, 4
 5657\, Deutschland
GEO:51.612144;7.199303
X-APPLE-STRUCTURED-LOCATION;VALUE=URI;X-ADDRESS=Kaiserwall 17\, Recklinghau
 sen\, NRW\, 45657\, Deutschland;X-APPLE-RADIUS=100;X-TITLE=K17 Diakonie In
 focenter:geo:51.612144,7.199303
END:VEVENT
BEGIN:VTIMEZONE
TZID:Europe/Berlin
X-LIC-LOCATION:Europe/Berlin
BEGIN:DAYLIGHT
DTSTART:20260329T030000
TZOFFSETFROM:+0100
TZOFFSETTO:+0200
TZNAME:CEST
END:DAYLIGHT
END:VTIMEZONE
END:VCALENDAR